BEGIN:VCALENDAR
VERSION:2.0
PRODID:-//Growing the Voices: Festival 500 - ECPv5.6.0//NONSGML v1.0//EN
CALSCALE:GREGORIAN
METHOD:PUBLISH
X-WR-CALNAME:Growing the Voices: Festival 500
X-ORIGINAL-URL:http://growingthevoicesfestival500.com
X-WR-CALDESC:Events for Growing the Voices: Festival 500
BEGIN:VTIMEZONE
TZID:America/St_Johns
BEGIN:DAYLIGHT
TZOFFSETFROM:-0330
TZOFFSETTO:-0230
TZNAME:NDT
DTSTART:20190310T053000
END:DAYLIGHT
BEGIN:STANDARD
TZOFFSETFROM:-0230
TZOFFSETTO:-0330
TZNAME:NST
DTSTART:20191103T043000
END:STANDARD
END:VTIMEZONE
BEGIN:VEVENT
DTSTART;TZID=America/St_Johns:20190601T150000
DTEND;TZID=America/St_Johns:20190601T160000
DTSTAMP:20260424T174204
CREATED:20190529T160048Z
LAST-MODIFIED:20190529T160116Z
UID:1703-1559401200-1559404800@growingthevoicesfestival500.com
SUMMARY:Instant Choir: Spring is in the air!
DESCRIPTION:Let’s celebrate the arrival of Spring with an INSTANT CHOIR \nWhat better way to announce the end of winter\, and the promise of summer\, than by singing together…just like nature’s springtime melodies. \nThe event will take place at Atlantic Place\, in the Atrium\, this Saturday\, June 1st. Singing starts at 3 pm. \nEveryone is welcome. Our expert facilitators will lead us in harmony. \nFREE underground parking off Harbour Drive. \nWe will be collecting $5 at the door. \nSinging belongs to everyone!
URL:http://growingthevoicesfestival500.com/event/instant-choir-spring-is-in-the-air/
LOCATION:Atrium in Atlantic Place\, 215 Water St\, St. John's\, Newfoundland and Labrador\, A1C 6C9\, Canada
ORGANIZER;CN="Growing%20The%20Voices%3A%20Festival%20500.":MAILTO:info@growingthevoicesfestival500.com
END:VEVENT
END:VCALENDAR