BEGIN:VCALENDAR
VERSION:2.0
PRODID:-//Growing the Voices: Festival 500 - ECPv5.6.0//NONSGML v1.0//EN
CALSCALE:GREGORIAN
METHOD:PUBLISH
X-WR-CALNAME:Growing the Voices: Festival 500
X-ORIGINAL-URL:http://growingthevoicesfestival500.com
X-WR-CALDESC:Events for Growing the Voices: Festival 500
BEGIN:VTIMEZONE
TZID:America/St_Johns
BEGIN:DAYLIGHT
TZOFFSETFROM:-0330
TZOFFSETTO:-0230
TZNAME:NDT
DTSTART:20190310T053000
END:DAYLIGHT
BEGIN:STANDARD
TZOFFSETFROM:-0230
TZOFFSETTO:-0330
TZNAME:NST
DTSTART:20191103T043000
END:STANDARD
END:VTIMEZONE
BEGIN:VEVENT
DTSTART;TZID=America/St_Johns:20191117T150000
DTEND;TZID=America/St_Johns:20191117T160000
DTSTAMP:20260421T191613
CREATED:20191112T062519Z
LAST-MODIFIED:20191112T062616Z
UID:1746-1574002800-1574006400@growingthevoicesfestival500.com
SUMMARY:Instant Choir - Ron Hynes Tribute
DESCRIPTION:Everyone is welcome.\nNo singing experience is necessary.\n$5 at the door.\nFree parking available underground at Atlantic Place off Harbour Drive.
URL:http://growingthevoicesfestival500.com/event/instant-choir-ron-hynes-tribute/
LOCATION:Atrium in Atlantic Place\, 215 Water St\, St. John's\, Newfoundland and Labrador\, A1C 6C9\, Canada
ORGANIZER;CN="Growing%20The%20Voices%3A%20Festival%20500.":MAILTO:info@growingthevoicesfestival500.com
END:VEVENT
END:VCALENDAR