BEGIN:VCALENDAR
VERSION:2.0
PRODID:-//Growing the Voices: Festival 500 - ECPv5.6.0//NONSGML v1.0//EN
CALSCALE:GREGORIAN
METHOD:PUBLISH
X-WR-CALNAME:Growing the Voices: Festival 500
X-ORIGINAL-URL:http://growingthevoicesfestival500.com
X-WR-CALDESC:Events for Growing the Voices: Festival 500
BEGIN:VTIMEZONE
TZID:America/St_Johns
BEGIN:DAYLIGHT
TZOFFSETFROM:-0330
TZOFFSETTO:-0230
TZNAME:NDT
DTSTART:20190310T053000
END:DAYLIGHT
BEGIN:STANDARD
TZOFFSETFROM:-0230
TZOFFSETTO:-0330
TZNAME:NST
DTSTART:20191103T043000
END:STANDARD
END:VTIMEZONE
BEGIN:VEVENT
DTSTART;TZID=America/St_Johns:20190701T130000
DTEND;TZID=America/St_Johns:20190701T140000
DTSTAMP:20260424T102429
CREATED:20190617T020140Z
LAST-MODIFIED:20190617T020322Z
UID:1709-1561986000-1561989600@growingthevoicesfestival500.com
SUMMARY:Instant Choir - Memorial Day
DESCRIPTION:Singing is a comforting and meaningful way to commemorate the courage of ‘our boys’ and share our gratitude. \nAdmission is free. \nAll ages are welcome. No singing experience is necessary. \n 
URL:http://growingthevoicesfestival500.com/event/instant-choir-memorial-day/
LOCATION:The Rooms\, 9 Bonaventure Ave\, St. John's\, Newfoundland and Labrador\, A1C 5P9\, Canada
ORGANIZER;CN="Growing%20The%20Voices%3A%20Festival%20500.":MAILTO:info@growingthevoicesfestival500.com
END:VEVENT
END:VCALENDAR