BEGIN:VCALENDAR
VERSION:2.0
PRODID:-//Growing the Voices: Festival 500 - ECPv5.6.0//NONSGML v1.0//EN
CALSCALE:GREGORIAN
METHOD:PUBLISH
X-WR-CALNAME:Growing the Voices: Festival 500
X-ORIGINAL-URL:http://growingthevoicesfestival500.com
X-WR-CALDESC:Events for Growing the Voices: Festival 500
BEGIN:VTIMEZONE
TZID:America/St_Johns
BEGIN:DAYLIGHT
TZOFFSETFROM:-0330
TZOFFSETTO:-0230
TZNAME:NDT
DTSTART:20190310T053000
END:DAYLIGHT
BEGIN:STANDARD
TZOFFSETFROM:-0230
TZOFFSETTO:-0330
TZNAME:NST
DTSTART:20191103T043000
END:STANDARD
END:VTIMEZONE
BEGIN:VEVENT
DTSTART;TZID=America/St_Johns:20190302T110000
DTEND;TZID=America/St_Johns:20190302T120000
DTSTAMP:20260425T170511
CREATED:20190222T001325Z
LAST-MODIFIED:20190302T074501Z
UID:1532-1551524400-1551528000@growingthevoicesfestival500.com
SUMMARY:Instant Choir - Launching in Bay Roberts
DESCRIPTION:Growing The Voices: Festival 500 is bringing Instant Choir to Bay Roberts!  \n  \nGrowing The Voices: Festival 500 is a non-profit charitable organization dedicated to making singing accessible to everyone. Because singing belongs to everyone and everyone has the capacity to learn to sing. Unfortunately\, many people don’t know or believe this to be true. \nInstant Choir is one of the singing programs that we have been offering since 2014. It is an opportunity for people to create community through singing\, and laughing\, together. It’s a lot of fun! Everyone is welcome. No singing experience is necessary. Our expert facilitators teach you to sing a song\, together in harmony\, over the course of an hour. \nThe first Bay Roberts Instant Choir is happening on Saturday\, March 2nd at the Bay Roberts Mall. Singing starts at 11 am. It will be led by Bay Robert’s own Sonya Gosse. At the end of the hour\, we will video record the last version of everyone singing together and post it on Growing The Voices: Festival 500’s social media channels\, available for everyone to share and enjoy over and over again. \n  \nBackground \nGrowing The Voices has been eager to expand its programs into the rest of the province. At the same time\, the National Arts Centre has expressed interested in the work our organization is doing in singing development and accessibility. It is through NAC’s generous offer to support an expansion that we have been able to do just that. \nGrowing The Voices: Festival 500 has chosen to direct these resources to launch Instant Choir in Bay Roberts. And to have Sonya Gosse lead this expansion. \nFor those not familiar with Sonya’s work\, she recently moved ‘home’ from central Canada following a distinguished career with the Canadian Opera Company. She is now settled back into the Bay Roberts area\, teaching singing and conducting choirs.   
URL:http://growingthevoicesfestival500.com/event/instant-choir-launching-in-bay-roberts/
LOCATION:Bay Roberts Mall\, Conception Bay Hwy\, Bay Roberts\, NL\, A0A 1G0\, Canada
ORGANIZER;CN="Growing%20The%20Voices%3A%20Festival%20500.":MAILTO:info@growingthevoicesfestival500.com
END:VEVENT
END:VCALENDAR