BEGIN:VCALENDAR
VERSION:2.0
PRODID:-//Growing the Voices: Festival 500 - ECPv5.6.0//NONSGML v1.0//EN
CALSCALE:GREGORIAN
METHOD:PUBLISH
X-WR-CALNAME:Growing the Voices: Festival 500
X-ORIGINAL-URL:http://growingthevoicesfestival500.com
X-WR-CALDESC:Events for Growing the Voices: Festival 500
BEGIN:VTIMEZONE
TZID:America/St_Johns
BEGIN:DAYLIGHT
TZOFFSETFROM:-0330
TZOFFSETTO:-0230
TZNAME:NDT
DTSTART:20190310T053000
END:DAYLIGHT
BEGIN:STANDARD
TZOFFSETFROM:-0230
TZOFFSETTO:-0330
TZNAME:NST
DTSTART:20191103T043000
END:STANDARD
END:VTIMEZONE
BEGIN:VEVENT
DTSTART;TZID=America/St_Johns:20190217T150000
DTEND;TZID=America/St_Johns:20190217T160000
DTSTAMP:20260426T001759
CREATED:20190206T170133Z
LAST-MODIFIED:20190206T170133Z
UID:1525-1550415600-1550419200@growingthevoicesfestival500.com
SUMMARY:Hymns For All Hands
DESCRIPTION:Hymns For All Hands is back again by popular demand! This is a Growing The Voices: Festival 500 program that offers an hour of community singing of all kinds of hymns. It is not a religious service. All denominations and none are heartily welcome. \nWe will be singing up a dozen or more well-known hymns together\, led by Dr. Doug Dunsmore with organ accompaniment by Dr. David Buley and piano accompaniment by Brian Way. \nThe event is free for everyone\, all ages are welcome and singing experience is neither needed nor expected.
URL:http://growingthevoicesfestival500.com/event/hymns-for-all-hands/
LOCATION:Hymns For All Hands\, 99 Queens Rd\, Gower Street United Church\, St. John's\, Newfoundland and Labrador\, Canada
ORGANIZER;CN="Growing%20The%20Voices%3A%20Festival%20500.":MAILTO:info@growingthevoicesfestival500.com
END:VEVENT
END:VCALENDAR